BEGIN:VCALENDAR
VERSION:2.0
PRODID:-//Minnesota Community Education Association - ECPv6.15.20//NONSGML v1.0//EN
CALSCALE:GREGORIAN
METHOD:PUBLISH
X-WR-CALNAME:Minnesota Community Education Association
X-ORIGINAL-URL:https://mn-mcea.org
X-WR-CALDESC:Events for Minnesota Community Education Association
REFRESH-INTERVAL;VALUE=DURATION:PT1H
X-Robots-Tag:noindex
X-PUBLISHED-TTL:PT1H
BEGIN:VTIMEZONE
TZID:America/Chicago
BEGIN:DAYLIGHT
TZOFFSETFROM:-0600
TZOFFSETTO:-0500
TZNAME:CDT
DTSTART:20250309T080000
END:DAYLIGHT
BEGIN:STANDARD
TZOFFSETFROM:-0500
TZOFFSETTO:-0600
TZNAME:CST
DTSTART:20251102T070000
END:STANDARD
BEGIN:DAYLIGHT
TZOFFSETFROM:-0600
TZOFFSETTO:-0500
TZNAME:CDT
DTSTART:20260308T080000
END:DAYLIGHT
BEGIN:STANDARD
TZOFFSETFROM:-0500
TZOFFSETTO:-0600
TZNAME:CST
DTSTART:20261101T070000
END:STANDARD
BEGIN:DAYLIGHT
TZOFFSETFROM:-0600
TZOFFSETTO:-0500
TZNAME:CDT
DTSTART:20270314T080000
END:DAYLIGHT
BEGIN:STANDARD
TZOFFSETFROM:-0500
TZOFFSETTO:-0600
TZNAME:CST
DTSTART:20271107T070000
END:STANDARD
END:VTIMEZONE
BEGIN:VEVENT
DTSTART;VALUE=DATE:20260415
DTEND;VALUE=DATE:20260417
DTSTAMP:20260422T104543
CREATED:20260327T201955Z
LAST-MODIFIED:20260414T155916Z
UID:4692-1776211200-1776383999@mn-mcea.org
SUMMARY:2026 CE-101 - Comm Ed Foundations & Connections Seminar
DESCRIPTION:
URL:https://mn-mcea.org/event/2026-ce-101-comm-ed-foundations-connections-seminar/
LOCATION:Koronis Ministries Retreat Center\, 15752 Co. Rd. 181\, Paynesville\, 56362\, United States
CATEGORIES:Events
ATTACH;FMTTYPE=image/jpeg:https://mn-mcea.org/wp-content/uploads/2026/03/10687-copy.jpg
END:VEVENT
END:VCALENDAR